BEGIN:VCALENDAR
VERSION:2.0
PRODID:-//ddaysoftware.com//NONSGML DDay.iCal 1.0//EN
BEGIN:VEVENT
DESCRIPTION:All members are welcome and encouraged to attend the board meet
 ing.  Contact Sarah Harbaugh for the Zoom ID to attend virtually\; IAFSM@I
 llinoisfloods.org.
DTEND:20211117T130000
DTSTAMP:20260421T055016
DTSTART:20211117T090000
LOCATION:Virtual Zoom Meeting
SEQUENCE:0
SUMMARY:November 2021 Board Meeting (conference planning)
UID:cfde800b-6dc1-4d20-96be-2ef034a04031
END:VEVENT
END:VCALENDAR
