BEGIN:VCALENDAR
VERSION:2.0
PRODID:-//ddaysoftware.com//NONSGML DDay.iCal 1.0//EN
BEGIN:VEVENT
DESCRIPTION:All members are welcome and encouraged to attend the board meet
 ing.  Contact Sarah Harbaugh for the Zoom ID to attend virtually\; IAFSM@I
 llinoisfloods.org.
DTEND:20210915T130000
DTSTAMP:20260421T054043
DTSTART:20210915T090000
LOCATION:Virtual Zoom Meeting
SEQUENCE:0
SUMMARY:September 2021 Board Meeting
UID:8a3551ee-6414-48ab-a63b-7a3ab74c07e0
END:VEVENT
END:VCALENDAR
