BEGIN:VCALENDAR
VERSION:2.0
PRODID:-//ddaysoftware.com//NONSGML DDay.iCal 1.0//EN
BEGIN:VEVENT
DESCRIPTION:
DTEND:20171213T120000
DTSTAMP:20260421T053349
DTSTART:20171213T090000
LOCATION:Christopher B. Burke Engineering\, Ltd.\, 9575 W. Higgins Road\, S
 uite 600\, Rosemont\, IL 60018
SEQUENCE:0
SUMMARY:Winter 2017 CFM Exam
UID:3c376fdd-2e3d-4356-9725-6bd90ba4729b
END:VEVENT
END:VCALENDAR
