BEGIN:VCALENDAR
VERSION:2.0
PRODID:-//ddaysoftware.com//NONSGML DDay.iCal 1.0//EN
BEGIN:VEVENT
DESCRIPTION:Please visit our Annual Conference Page for the most up to date
  information.\nhttps://www.illinoisfloods.org/conferences-workshops/iafsm-
 annual-conference
DTEND:20220309T160000
DTSTAMP:20260421T053522
DTSTART:20220308T080000
LOCATION:Bloomington-Normal Marriott\, 201 Broadway\, Normal\, IL 61761
SEQUENCE:0
SUMMARY:IAFSM 2022 Conference
UID:c5efff53-aec1-42bb-8065-b8f5f2de6210
END:VEVENT
END:VCALENDAR
