BEGIN:VCALENDAR
VERSION:2.0
PRODID:-//ddaysoftware.com//NONSGML DDay.iCal 1.0//EN
BEGIN:VEVENT
DESCRIPTION:The LaSalle County Emergency Management Agency has partnered wi
 th the National Disaster Preparedness Training Center to offer a virtual t
 raining opportunity for CFMs. The Climate Adaptation Planning for Emergenc
 y Management curriculum is pre-approved for 6.5 hours of continuing educat
 ion for CFM\, APA\, and AICP. The class is spread over 2 days to accommoda
 te the virtual presentation and will be presented August 31 and September 
 1 from 1:00-5:00pm CT. Participants must attend both virtual days to recei
 ve credit.\nCourse Flyer
DTEND:20210901T170000
DTSTAMP:20260421T053715
DTSTART:20210831T130000
LOCATION:Virtual
SEQUENCE:0
SUMMARY:Climate Adaptation Planning for Emergency Management
UID:534d0392-3610-4e3d-99d6-6a46359864d9
END:VEVENT
END:VCALENDAR
