BEGIN:VCALENDAR
VERSION:2.0
PRODID:-//ddaysoftware.com//NONSGML DDay.iCal 1.0//EN
BEGIN:VEVENT
DESCRIPTION:Board meetings are open to all members.  Please let Sarah Harba
 ugh know if you plan on attending and she will send you the Zoom link.
DTEND:20210113T140000
DTSTAMP:20260421T054221
DTSTART:20210113T090000
LOCATION:Virtual Zoom Meeting
SEQUENCE:0
SUMMARY:January 2021 Board Meeting
UID:c1d38eef-384e-4d70-8c7a-22fb6524f4c6
END:VEVENT
END:VCALENDAR
