BEGIN:VCALENDAR
VERSION:2.0
PRODID:-//ddaysoftware.com//NONSGML DDay.iCal 1.0//EN
BEGIN:VEVENT
DESCRIPTION:Note:  To allow sufficient time for check-in and explaining log
 istics and instructions prior to the exam start\, attendees should arrive 
 at the exam location no later than 1:30pm.  Late arrivals may not be admit
 ted to the exam or may forfeit a portion of the 3 hours allotted to take t
 he exam.\n \nApplication Process:\nIn order to take the CFM exam\, you mus
 t complete and submit the CFM Program Application Package to the ASFPM. Th
 e forms are available on the ASFPM website www.floods.org under the Certif
 ication Program tab or on the IAFSM website https://www.illinoisfloods.org
 /about-iafsm/floodplain-manager-certification. The fee for taking the exam
  is $170 for Illinois residents or $100 for IAFSM members. \nIn order to b
 e accepted to take the Certified Floodplain Managers Exam on February 28th
 \, you must submit your completed application along with the appropriate f
 ee to ASFPM by Friday\, February 14th (2 weeks prior to exam date).  No wa
 lk-ins will be allowed unless expressly authorized by the ASFPM Executive 
 office.\n \nPoints of Contact:\nQuestions regarding applications for the C
 FM Exam or ASFPM Membership should be directed to cfm@floods.org.  \n \nFo
 r questions or issues on the day of the exam\, contact the Exam Proctor: E
 rin Cobb at 202-412-2956.
DTEND:20200228T170000
DTSTAMP:20260421T053813
DTSTART:20200228T140000
LOCATION:Western Illinois University\, 3300 River Drive\, Bldg. B\, Room 11
 22\, Moline\, IL
SEQUENCE:0
SUMMARY:CFM Exam\, Moline\, IL
UID:bd76628e-0cf4-4f5f-b277-9f563571cd7d
END:VEVENT
END:VCALENDAR
