BEGIN:VCALENDAR
VERSION:2.0
PRODID:-//ddaysoftware.com//NONSGML DDay.iCal 1.0//EN
BEGIN:VEVENT
DESCRIPTION:
DTEND:20170915T160000
DTSTAMP:20260421T053501
DTSTART:20170915T130000
LOCATION:ISWS\, 2204 Griffith Drive\, Champaign\, IL 61820
SEQUENCE:0
SUMMARY:Fall 2017 CFM Exam
UID:7b15075e-a918-4cfb-9b88-d883cd21b73c
END:VEVENT
END:VCALENDAR
