BEGIN:VCALENDAR
VERSION:2.0
PRODID:-//ddaysoftware.com//NONSGML DDay.iCal 1.0//EN
BEGIN:VEVENT
DESCRIPTION:The IAFSM Young Professionals (YP) Committee is excited to anno
 unce our first YP event of 2020! The Metropolitan Water Reclamation Distri
 ct of Greater Chicago (MWRDGC) will host us for a private tour of the Tunn
 el and Reservoir Plan (TARP) Mainstream Pumping Station Tour. Following th
 e tour\, we will meet at a nearby spot for networking\, food\, and drinks 
 with other IAFSM Young Professionals. Additional details to follow.\nWhat:
  IAFSM Young Professionals TARP Mainstream Pumping Station Tour and Networ
 king Happy Hour\nWhen: Friday\, February 7 | 1:00 &ndash\; 3:00 PM\, Netwo
 rking Happy Hour to follow tour\nWhere: 6100 River Rd.\, Hodgkins\, IL\nIf
  you are planning to attend\, please send a scanned copy of the signed wai
 ver (attached) and state-issued ID to Adam Blumstein (arblumstein@burnsmcd
 .com) by Wednesday\, January 22nd. These items are required to attend the 
 tour.\nRSVP HERE!!\nWe hope you can make it! If you have any questions or 
 would like to get involved with the IAFSM Young Professionals Committee\, 
 feel free to reach out to Adam Blumstein (arblumstein@burnsmcd.com).\nTARP
  Fact Sheet\nMWRDGC Waiver
DTEND:20200207T163000
DTSTAMP:20260421T055204
DTSTART:20200207T130000
LOCATION:TARP Pumping Station\, 6100 River Road\, Hodgkins\, IL
SEQUENCE:0
SUMMARY:IAFSM YP Event: TARP Mainstream Pumping Station Tour and Networking
  Happy Hour
UID:1109e4ce-cb81-49af-9935-855e1d5c9ffa
END:VEVENT
END:VCALENDAR
