BEGIN:VCALENDAR
VERSION:2.0
PRODID:-//ddaysoftware.com//NONSGML DDay.iCal 1.0//EN
BEGIN:VEVENT
DESCRIPTION:Board meetings are open to all members. If you are interested i
 n participating please email Sarah Harbaugh (iafsm@illinoisfloods.org) and
  she will provide the ID and password via email to you. 
DTEND:20200513T140000
DTSTAMP:20260421T054446
DTSTART:20200513T100000
LOCATION:Virtual Zoom Meeting
SEQUENCE:0
SUMMARY:May 2020 IAFSM Board Meeting
UID:82c6a438-3fac-45ae-8ddb-45943429042d
END:VEVENT
END:VCALENDAR
