BEGIN:VCALENDAR
VERSION:2.0
PRODID:-//ddaysoftware.com//NONSGML DDay.iCal 1.0//EN
BEGIN:VEVENT
DESCRIPTION:This Course is FREE!\nCourse Flyer
DTEND:20191205T163000
DTSTAMP:20260421T054553
DTSTART:20191204T080000
LOCATION:Community Outreach Room\, 2500 N. Annie Glidden Road\, Dekalb\, IL
  60115
SEQUENCE:0
SUMMARY:IEMA/FEMA Mitigation Planning Workshop - Dekalb
UID:1e59ad9c-df04-4508-9824-b71e3f863acf
END:VEVENT
END:VCALENDAR
