BEGIN:VCALENDAR
VERSION:2.0
PRODID:-//ddaysoftware.com//NONSGML DDay.iCal 1.0//EN
BEGIN:VEVENT
DESCRIPTION:This Course is FREE!\nCourse Flyer
DTEND:20191213T163000
DTSTAMP:20260421T054532
DTSTART:20191212T080000
LOCATION:Mt. Vernon Outland Airport\, 100 Aviation Drive\, Mt. Vernon\, IL 
 62864
SEQUENCE:0
SUMMARY:IEMA/FEMA Mitigation Planning Workshop - Mt. Vernon
UID:440fd346-abf7-478a-91c3-4bf04b54013d
END:VEVENT
END:VCALENDAR
