BEGIN:VCALENDAR
VERSION:2.0
PRODID:-//ddaysoftware.com//NONSGML DDay.iCal 1.0//EN
BEGIN:VEVENT
DESCRIPTION:The IAFSM Young Professionals (YP) Committee is excited to anno
 unce our first ever YP event. On Thursday\, September 12\, the DuPage Coun
 ty Stormwater Management Commission will host us for a private tour of the
  Elmhurst Quarry Flood Control Facility. Following the tour\, we will move
  to a nearby spot for networking\, food\, and drinks with other IAFSM Youn
 g Professionals. Additional details to follow.\nWhat: IAFSM Young Professi
 onals Elmhurst Quarry Tour and Networking Happy Hour\nWhen: Thursday\, Sep
 tember 12 | 3:00 &ndash\; 4:00 PM\, Networking Happy Hour to follow tour\n
 Where: Elmhurst Quarry Flood Control Facility\, Elmhurst\, Illinois\n \nRS
 VP HERE!!\n \nWe hope you can make it! If you have any questions or would 
 like to get involved with the IAFSM Young Professionals Committee\, feel f
 ree to reach out to Adam Blumstein (arblumstein@burnsmcd.com).
DTEND:20190912T160000
DTSTAMP:20260421T055306
DTSTART:20190912T150000
LOCATION:Elmhurst Quarry Flood Control Facility\, Elmhurst\, IL
SEQUENCE:0
SUMMARY:Elmhurst Quarry Tour and Networking Happy Hour
UID:fb0f4fd3-a570-4b37-8354-1010266eb91f
END:VEVENT
END:VCALENDAR
