BEGIN:VCALENDAR
VERSION:2.0
PRODID:-//ddaysoftware.com//NONSGML DDay.iCal 1.0//EN
BEGIN:VEVENT
DESCRIPTION:SAVE THE DATE Flyer
DTEND:20190828T160000
DTSTAMP:20260421T054705
DTSTART:20190828T110000
LOCATION:Gateway Building\, 200 Northeast Water Street\, Peoria\, IL 61602
SEQUENCE:0
SUMMARY:Flood Preparedness and Response Workshop for Central Illinois Commu
 nities
UID:7b8bc7b2-6398-4847-a8a7-5f424e120be5
END:VEVENT
END:VCALENDAR
