BEGIN:VCALENDAR
VERSION:2.0
PRODID:-//ddaysoftware.com//NONSGML DDay.iCal 1.0//EN
BEGIN:VEVENT
DESCRIPTION:Board meetings are open to all members.  Please let Sarah Harba
 ugh know if you plan on attending.
DTEND:20201119T150000
DTSTAMP:20260421T055021
DTSTART:20201119T090000
LOCATION:Virtual Zoom Meeting
SEQUENCE:0
SUMMARY:November 2020 Board Meeting (conference planning)
UID:71b14e8b-a323-4d07-aeea-a313545cc189
END:VEVENT
END:VCALENDAR
