BEGIN:VCALENDAR
VERSION:2.0
PRODID:-//ddaysoftware.com//NONSGML DDay.iCal 1.0//EN
BEGIN:VEVENT
DESCRIPTION:Board meetings are open to all members.  Please let Sarah Harba
 ugh know if you plan on attending.
DTEND:20200909T130000
DTSTAMP:20260421T054150
DTSTART:20200909T090000
LOCATION:Virtual Zoom Meeting
SEQUENCE:0
SUMMARY:September 2020 Board Meeting
UID:39468089-444a-4823-b501-a801356441da
END:VEVENT
END:VCALENDAR
