BEGIN:VCALENDAR
VERSION:2.0
PRODID:-//ddaysoftware.com//NONSGML DDay.iCal 1.0//EN
BEGIN:VEVENT
DESCRIPTION:Board Meetings are open to all members.  Please let Sarah Harba
 ugh know if you plan on attending.
DTEND:20200312T085000
DTSTAMP:20260421T055602
DTSTART:20200312T073000
LOCATION:Tinley Park Convention Center\, 18451 Convention Center Dr\, Tinle
 y Park\, IL 60477
SEQUENCE:0
SUMMARY:March 2020 IAFSM Board Meeting (annual conference)
UID:e7c034dc-eef5-455d-84fa-870ff24b404c
END:VEVENT
END:VCALENDAR
