BEGIN:VCALENDAR
VERSION:2.0
PRODID:-//ddaysoftware.com//NONSGML DDay.iCal 1.0//EN
BEGIN:VEVENT
DESCRIPTION:
DTEND:20170613T170000
DTSTAMP:20260421T053348
DTSTART:20170613T140000
LOCATION:V3 Companies\, 7325 Janes Ave\, Woodridge\, IL 60517
SEQUENCE:0
SUMMARY:Summer 2017 CFM Exam
UID:1a03efd1-5714-4f0e-bbc9-c67f4d49ba4c
END:VEVENT
END:VCALENDAR
