BEGIN:VCALENDAR
VERSION:2.0
PRODID:-//ddaysoftware.com//NONSGML DDay.iCal 1.0//EN
BEGIN:VEVENT
DESCRIPTION:Board Meetings are open to all members.  Please let Sarah Harba
 ugh know if you plan on attending.
DTEND:20200108T140000
DTSTAMP:20260421T055138
DTSTART:20200108T100000
LOCATION:Tinley Park Convention Center\, 18451 Convention Center Dr\, Tinle
 y Park\, IL 60477
SEQUENCE:0
SUMMARY:March 2020 IAFSM Board Meeting (annual conference)
UID:8e24c319-6e6c-4a52-bb82-84f03aa3b076
END:VEVENT
END:VCALENDAR
