BEGIN:VCALENDAR
VERSION:2.0
PRODID:-//ddaysoftware.com//NONSGML DDay.iCal 1.0//EN
BEGIN:VEVENT
DESCRIPTION:Board Meetings are open to all members.  Please let Sarah Harba
 ugh know if you plan on attending.
DTEND:20190911T140000
DTSTAMP:20260421T054446
DTSTART:20190911T100000
LOCATION:V3\, 7325 Janes Ave.\, Woodridge\, IL 60517
SEQUENCE:0
SUMMARY:September 2019 Board Meeting
UID:01f9243f-b1a9-4607-8f0f-76b3e114fb23
END:VEVENT
END:VCALENDAR
