BEGIN:VCALENDAR
VERSION:2.0
PRODID:-//ddaysoftware.com//NONSGML DDay.iCal 1.0//EN
BEGIN:VEVENT
DESCRIPTION:Board meetings are open to all members.  Please let Sarah Harba
 ugh know if you plan on attending.
DTEND:20190710T140000
DTSTAMP:20260421T054939
DTSTART:20190710T100000
LOCATION:Bloomington-Normal Marriot Hotel & Conference Center\, 201 Broadwa
 y\, Normal\, IL 61761
SEQUENCE:0
SUMMARY:July 2019 IAFSM Board Meeting
UID:572b0c35-45de-4d84-a109-1eefb1e46849
END:VEVENT
END:VCALENDAR
