BEGIN:VCALENDAR
VERSION:2.0
PRODID:-//ddaysoftware.com//NONSGML DDay.iCal 1.0//EN
BEGIN:VEVENT
DESCRIPTION:
DTEND:20200310T210000
DTSTAMP:20260421T053354
DTSTART:20200310T180000
LOCATION:Tinley Park Convention Center - Samuel Tinley Room\, 18451 Convent
 ion Center Drive\, Tinley Park\, IL 60477
SEQUENCE:0
SUMMARY:CFM Exam - Tinley Park IL
UID:4d10027c-4f51-4217-b292-492cd9d9addf
END:VEVENT
END:VCALENDAR
