BEGIN:VCALENDAR
VERSION:2.0
PRODID:-//ddaysoftware.com//NONSGML DDay.iCal 1.0//EN
BEGIN:VEVENT
DESCRIPTION:
DTEND:20191211T120000
DTSTAMP:20260421T053430
DTSTART:20191211T090000
LOCATION:Christopher B. Burke Engineering Ltd.\, 9575 W Higgins Rd # 600\, 
 Rosemont\, IL 60018
SEQUENCE:0
SUMMARY:Winter 2019 CFM Exam
UID:d43b7056-5184-4f63-88b6-65467b4ab744
END:VEVENT
END:VCALENDAR
