BEGIN:VCALENDAR
VERSION:2.0
PRODID:-//ddaysoftware.com//NONSGML DDay.iCal 1.0//EN
BEGIN:VEVENT
DESCRIPTION:
DTEND:20191004T160000
DTSTAMP:20260421T054527
DTSTART:20191004T130000
LOCATION:Illinois State Water Survey\, 2204 Griffith Drive\, Champagin\, IL
  61820
SEQUENCE:0
SUMMARY:Fall 2019 CFM Exam
UID:19b6fb2c-6cf7-4129-8fdc-d833aae1f627
END:VEVENT
END:VCALENDAR
