BEGIN:VCALENDAR
VERSION:2.0
PRODID:-//ddaysoftware.com//NONSGML DDay.iCal 1.0//EN
BEGIN:VEVENT
DESCRIPTION:
DTEND:20190627T163000
DTSTAMP:20260421T053813
DTSTART:20190627T133000
LOCATION:V3\, 7325 Janes Avenue\, Woodridge\, IL 60517
SEQUENCE:0
SUMMARY:Summer 2019 CFM Exam
UID:89dcfa82-c319-4ee2-a7a1-5032595257cf
END:VEVENT
END:VCALENDAR
