BEGIN:VCALENDAR
VERSION:2.0
PRODID:-//ddaysoftware.com//NONSGML DDay.iCal 1.0//EN
BEGIN:VEVENT
DESCRIPTION:&ldquo\;Using the New HEC-RAS Mapper Applications&rdquo\; highl
 ights the newest version of HEC-RAS (5.0.5) including the capabilities of 
 GeoRAS 10.2 with expanded Mapper functions. Vern Bonner will teach you how
  to create geometry files from Digital Terrain Models (DTM)\, imported thr
 ough Mapper and produce floodplain maps from your RAS simulations. You wil
 l be guided through a series of workshops so you will get a hands-on under
 standing of how to use the new Mapper capabilities of the program.\nHere i
 s a link to the full course description:  https://epd.wisc.edu/hec-ras-tra
 ining/\nHere is the link to the ASFPM member discount page:  https://epd.w
 isc.edu/asfpm
DTEND:20190523T170000
DTSTAMP:20260421T054150
DTSTART:20190523T080000
LOCATION:University of Wisconsin-Madison\, Madison\, WI
SEQUENCE:0
SUMMARY:Using the New HEC-RAS Mapper Applications - In Person
UID:8932605c-d153-4bc3-856b-124e3f85d36b
END:VEVENT
END:VCALENDAR
