BEGIN:VCALENDAR
VERSION:2.0
PRODID:-//ddaysoftware.com//NONSGML DDay.iCal 1.0//EN
BEGIN:VEVENT
DESCRIPTION:&ldquo\;Using the New HEC-RAS Mapper Applications&rdquo\; highl
 ights the newest version of HEC-RAS (5.0.5) including the capabilities of 
 GeoRAS 10.2 with expanded Mapper functions. Vern Bonner will teach you how
  to create geometry files from Digital Terrain Models (DTM)\, imported thr
 ough Mapper and produce floodplain maps from your RAS simulations. You wil
 l be guided through a series of workshops so you will get a hands-on under
 standing of how to use the new Mapper capabilities of the program.\nHere i
 s a link to the full course description:  https://epd.wisc.edu/hec-ras-tra
 ining/\nHere is the link to the ASFPM member discount page:  https://epd.w
 isc.edu/asfpm
DTEND:20190412T000000
DTSTAMP:20260421T053522
DTSTART:20190329T000000
LOCATION:
SEQUENCE:0
SUMMARY:Using the New HEC-RAS Mapper Applications - Online
UID:b7223017-4d1b-4bb4-a229-a6ac43297c11
END:VEVENT
END:VCALENDAR
