BEGIN:VCALENDAR
VERSION:2.0
PRODID:-//ddaysoftware.com//NONSGML DDay.iCal 1.0//EN
BEGIN:VEVENT
DESCRIPTION:test
DTEND:20170307T200000
DTSTAMP:20260421T053317
DTSTART:20170307T170000
LOCATION:Crowne Plaza Hotel\, Ruby Room (2nd Floor)\, 3000 South Dirksen Pa
 rkway\, Springfield\, IL 62703
SEQUENCE:0
SUMMARY:Spring 2017 CFM Exam
UID:40b70acc-0b0c-4284-973b-d61363673f4a
END:VEVENT
END:VCALENDAR
