BEGIN:VCALENDAR
VERSION:2.0
PRODID:-//ddaysoftware.com//NONSGML DDay.iCal 1.0//EN
BEGIN:VEVENT
DESCRIPTION:&ldquo\;Using HEC-RAS to Model Bridges\, Culverts and Floodplai
 ns&rdquo\; features seven live sessions\, each of which is recorded and ca
 n be accessed at your convenience. In addition to the one-hour &ldquo\;liv
 e&rdquo\; sessions\, the course includes a series of pre-recorded 30-minut
 e presentations\, and self-study workshops. Throughout the class you will 
 have access to an online forum to ask questions and post comments\, and re
 ceive feedback.\nHere is a link to the full course description:  https://e
 pd.wisc.edu/hec-ras-training/\nHere is the link to the ASFPM member discou
 nt page:  https://epd.wisc.edu/asfpm
DTEND:20190419T000000
DTSTAMP:20260421T055210
DTSTART:20190301T000000
LOCATION:
SEQUENCE:0
SUMMARY:Using HEC-RAS to Model Bridges\, Culverts\, and Floodplains - Onlin
 e
UID:af21466a-2b57-4bdc-b92a-8526a044f9f3
END:VEVENT
END:VCALENDAR
