BEGIN:VCALENDAR
VERSION:2.0
PRODID:-//ddaysoftware.com//NONSGML DDay.iCal 1.0//EN
BEGIN:VEVENT
DESCRIPTION:
DTEND:20190312T200000
DTSTAMP:20260421T053557
DTSTART:20190312T170000
LOCATION:Embassy Suites - Peoria Riverfront Conference Center\, 100 Confere
 nce Center Drive\, East Peoria\, IL 61611
SEQUENCE:0
SUMMARY:Spring 2019 CFM Exam
UID:b2c45cf5-e04c-4677-a219-9cd8fe601285
END:VEVENT
END:VCALENDAR
