BEGIN:VCALENDAR
VERSION:2.0
PRODID:-//ddaysoftware.com//NONSGML DDay.iCal 1.0//EN
BEGIN:VEVENT
DESCRIPTION:This new online class will provide you with hands-on training t
 hat will enable you to understand and use the significantly enhanced Mappe
 r capabilities that have been added to the latest version (5.0.5) of HEC-R
 AS.\nPlease follow this link for more information about this workshop:  ht
 tps://epd.wisc.edu/course/using-the-new-hec-ras-mapper-applications/\nASFP
 M members receive a $100 discount for this course.  Here is the link to th
 e discount page you can use:        https://epd.wisc.edu/asfpm
DTEND:20181109T000000
DTSTAMP:20260421T053715
DTSTART:20181026T000000
LOCATION:On-Line
SEQUENCE:0
SUMMARY:Using the New HEC-RAS Mapper Applications
UID:b1315490-f90e-46d0-935d-c5e609d44197
END:VEVENT
END:VCALENDAR
