BEGIN:VCALENDAR
VERSION:2.0
PRODID:-//ddaysoftware.com//NONSGML DDay.iCal 1.0//EN
BEGIN:VEVENT
DESCRIPTION:This course will give you hands-on workshop experience applying
  HEC-RAS to real-world problems.\nPlease follow this link for more informa
 tion about this workshop:  https://epd.wisc.edu/course/using-hec-ras-to-mo
 del-bridges-culverts-and-floodplains/\nASFPM members receive a $200 discou
 nt for this course.  Here is the link to the discount page you can use:   
      https://epd.wisc.edu/asfpm
DTEND:20181116T000000
DTSTAMP:20260421T054125
DTSTART:20180928T000000
LOCATION:On-Line
SEQUENCE:0
SUMMARY:Using HEC-RAS to Model Bridges\, Culverts\, and Floodplains
UID:ceaa773b-7e3b-4209-ab6d-b16152fb9594
END:VEVENT
END:VCALENDAR
