BEGIN:VCALENDAR
VERSION:2.0
PRODID:-//ddaysoftware.com//NONSGML DDay.iCal 1.0//EN
BEGIN:VEVENT
DESCRIPTION:
DTEND:20181114T150000
DTSTAMP:20260421T054644
DTSTART:20181114T090000
LOCATION:V3\, 7325 Janes Avenue\, Woodridge\, IL 60517
SEQUENCE:0
SUMMARY:IAFSM November Board Meeting
UID:7ed786ab-0bbe-48df-8cba-3108a837bfab
END:VEVENT
END:VCALENDAR
