BEGIN:VCALENDAR
VERSION:2.0
PRODID:-//ddaysoftware.com//NONSGML DDay.iCal 1.0//EN
BEGIN:VEVENT
DESCRIPTION:
DTEND:20180912T140000
DTSTAMP:20260421T055138
DTSTART:20180912T100000
LOCATION:Kidzeum\, 412 E Adams St.\, Springfield\, IL 62701
SEQUENCE:0
SUMMARY:IAFSM September Board Meeting
UID:86e14b80-4d5f-43df-8b27-69821612f596
END:VEVENT
END:VCALENDAR
