BEGIN:VCALENDAR
VERSION:2.0
PRODID:-//ddaysoftware.com//NONSGML DDay.iCal 1.0//EN
BEGIN:VEVENT
DESCRIPTION:FEMA's Emergency Management Institute (EMI)Continuing Education
  Opportunity: 12 CECs for CFMs\nThis course provides in-depth instruction 
 and hands-on activities that develop the skills needed by floodplain manag
 ers and emergency planners to effectively use Geographic Information Syste
 ms (GIS) tools\, with emphasis on Hazus-MH\, for modeling the impacts on c
 ommunities from riverine and coastal flooding. Those who complete this cou
 rse will understand the roles that Floodplain Managers support\, as well a
 s\, how geospatial technologies such as Hazus-MH can be used to protect co
 mmunities beyond the minimum standards that Floodplain Managers are respon
 sible for implementing.\nTO APPLY: Complete a FEMA Form 119-25-1\, General
  Admissions Application\, with student signature and signature of supervis
 or or sponsoring agency official. State and local participants must submit
  their application through the State Emergency Management Training office.
  Tribal representatives can submit their application directly to NETC Admi
 ssion Office. FEMA Regional employees should submit their application to t
 heir Regional Training Manager (RTM). Mail\, scan\, or fax the application
  to:\nNETC Admissions Office (Room I-216)National Emergency Training Cente
 r16825 South Seton AvenueEmmitsburg\, MD 21727-8998Phone: (301) 447-1035 F
 ax: (301) 447-1658Email: netcadmissions@fema.dhs.gov
DTEND:20170330T000000
DTSTAMP:20260421T053307
DTSTART:20170327T000000
LOCATION:NETC Admissions Office (Room I-216)\, 16825 South Seton Avenue\, E
 mmitsburg\, MD 21727
SEQUENCE:0
SUMMARY:E176 HAZUS-MH for Floodplain Managers
UID:81a4f76f-d969-4587-8cc9-f7beb0d5a7aa
END:VEVENT
END:VCALENDAR
