BEGIN:VCALENDAR
VERSION:2.0
PRODID:-//ddaysoftware.com//NONSGML DDay.iCal 1.0//EN
BEGIN:VEVENT
DESCRIPTION:Flood Provisions of the International Residential Code - ONLINE
  COURSE. FEMA Building Science in partnership with ICC has launched the ne
 w online course &ldquo\;Flood Provisions of the International Residential 
 Code&rdquo\; in celebration of Building Safety Month. For a limited time\,
  this course is available FREE of charge. More information is available HE
 RE (Part 1) and HERE (Part 2).\nThis is valuable information for floodplai
 n managers and anyone involved in the design and construction of buildings
  in floodprone areas. The information can be used by individuals for educa
 tional and informative purposes. The course is copyrighted by the Internat
 ional Code Council. Note that at this time\, the course is not eligible fo
 r ASFPM CFM continuing education credits.\n Also note that the code text u
 sed throughout this course are from the 2012 International Codes (I-Codes)
  with notes about some significant changes adopted for the 2015 I-Codes. F
 or the full code text of the 2009\, 2012\, 2015\, and 2018 I-Codes (and re
 lated building code resources)\, members should be directed to FEMA's Buil
 ding Code Resources page (flood tab) at https://www.fema.gov/building-code
 -resources.  \nFEMA Building Science has many publications for homeowners\
 , design professionals\, and builders that illustrate important concepts a
 nd best practices in accordance with building codes and standards for cons
 tructing and retrofitting stronger\, safer buildings. The publications are
  downloadable for free on FEMA&rsquo\;s Web site and are organized by haza
 rd: http://www.fema.gov/building-science-publications.  \nFree hard copies
  of FEMA Building Science&rsquo\;s current publications may also be ordere
 d by calling the FEMA Publication Warehouse at 1-800-480-2520\, Monday thr
 ough Friday between 8:00 AM and 5:00 PM (EST)\, by fax at 1-240-699-0525\,
  or by emailing your request to FEMA-Publications-Warehouse@fema.dhs.gov. 
 Please provide the title\, publication number\, and quantity of each publi
 cation\, along with your name\, address\, zip code\, and daytime telephone
  number.\nIf you have additional questions pertaining to FEMA Building Sci
 ence publications\, please feel free to contact us again at FEMA-Buildings
 ciencehelp@fema.dhs.gov.
DTEND:20181231T000000
DTSTAMP:20260421T055128
DTSTART:20180720T000000
LOCATION:
SEQUENCE:0
SUMMARY:Flood Provisions of the International Residential Code - Online Cou
 rse
UID:30fc43f6-3d7e-42e3-b07b-1a96d80180c6
END:VEVENT
END:VCALENDAR
