BEGIN:VCALENDAR
VERSION:2.0
PRODID:-//ddaysoftware.com//NONSGML DDay.iCal 1.0//EN
BEGIN:VEVENT
DESCRIPTION:
DTEND:20180928T160000
DTSTAMP:20260421T053629
DTSTART:20180928T130000
LOCATION:Illinois State Water Survey\, 2204 Griffith Drive\, Champaign\, IL
  61820
SEQUENCE:0
SUMMARY:Fall 2018 CFM Exam - Downstate
UID:016fd59f-10bf-4a05-826a-9f666c1e35d1
END:VEVENT
END:VCALENDAR
