BEGIN:VCALENDAR
VERSION:2.0
PRODID:-//ddaysoftware.com//NONSGML DDay.iCal 1.0//EN
BEGIN:VEVENT
DESCRIPTION:
DTEND:20181212T120000
DTSTAMP:20260421T053946
DTSTART:20181212T090000
LOCATION:Christopher B. Burke Engineering\, Ltd.\, 9575 W. Higgins Road\, S
 uite 600\, Rosemont\, IL 60018
SEQUENCE:0
SUMMARY:Winter 2018 CFM Exam
UID:fd1599d3-ec9d-4ca7-b8bf-3c0e0e368640
END:VEVENT
END:VCALENDAR
