BEGIN:VCALENDAR
VERSION:2.0
PRODID:-//ddaysoftware.com//NONSGML DDay.iCal 1.0//EN
BEGIN:VEVENT
DESCRIPTION:
DTEND:20180711T170000
DTSTAMP:20260421T053756
DTSTART:20180711T140000
LOCATION:V3 Companies\, 7325 Janes Avenue\, Woodridge\, IL 60517
SEQUENCE:0
SUMMARY:Summer 2018 CFM Exam
UID:cc85ce23-0a74-442e-a660-61a977949e7b
END:VEVENT
END:VCALENDAR
