BEGIN:VCALENDAR
VERSION:2.0
PRODID:-//ddaysoftware.com//NONSGML DDay.iCal 1.0//EN
BEGIN:VEVENT
DESCRIPTION:
DTEND:20180711T140000
DTSTAMP:20260421T054527
DTSTART:20180711T100000
LOCATION:V3\, 7325 Janes Avenue\, Woodridge\, IL 60517
SEQUENCE:0
SUMMARY:July 2018 IAFSM Board Meeting
UID:957d9486-fa73-44ab-8d88-e8be30359bc7
END:VEVENT
END:VCALENDAR
