BEGIN:VCALENDAR
VERSION:2.0
PRODID:-//ddaysoftware.com//NONSGML DDay.iCal 1.0//EN
BEGIN:VEVENT
DESCRIPTION:The Association of State Floodplain Managers will convene the w
 orld's largest and most comprehensive floodplain management conference &nd
 ash\; our 42nd annual gathering\, June 17 - 21\, 2018 at the Phoenix Conve
 ntion Center in downtown Phoenix\, Arizona. We invite you to share your ex
 periences with local\, state\, regional\, tribal and federal officials\, i
 ndustry leaders\, consultants and a wide variety of subject matter experts
  from diverse fields who will give presentations relevant to our theme\, "
 Managing Floods Where Mountains Meet the Desert."\nThe conference is condu
 cted by the ASFPM\, the world's leading voice for sound floodplain managem
 ent\, with 18\,000+ practitioners\, 10\,000 Certified Floodplain Managers\
 , 36 chapters and 73 corporate and agency Partners world-wide.\nhttp://asf
 pmconference.org/2018/\nIAFSM offers Local Official Scholarships to attend
  this conference.  Learn more&gt\;&gt\;
DTEND:20180621T000000
DTSTAMP:20260421T053629
DTSTART:20180617T000000
LOCATION:Phoenix Convention Center\, 100 N. 3rd St\, Phoenix\, AZ 85004
SEQUENCE:0
SUMMARY:2018 ASFPM Annual Conference
UID:35cd40c3-327e-4493-9184-e880ae9b73d1
END:VEVENT
END:VCALENDAR
