BEGIN:VCALENDAR
VERSION:2.0
PRODID:-//ddaysoftware.com//NONSGML DDay.iCal 1.0//EN
BEGIN:VEVENT
DESCRIPTION:Stormwater Management Committee BMP Design Workshop\, September
  29\, 2009Workshop Presentation Files for Download\nAdobe Acrobat files *.
 pdf:\n\nLID Modeling Using SWMM\, Gregory P. Kacvinsky\, P.E.LID Example .
 zip\nStormwater BMP Design Course\nThe Main Parking Lot at the Morton Abor
 etum\, Sikich Engineering\, Inc.\nMaintenance Challenges and Success Stori
 es\, Foth\nDupage County Water Quality BMPs\, Clayton Heffter\nInfiltratio
 n BMP Design Exercise\nThe RECARGA Model\, Linda Severson\, Montgomery Ass
 ociates Resource Solutions\, LLC\nWinSLAMM Analysis of Treatment Practices
 \, Caroline Burger\, P.E. &amp\; Roger Bannerman\nInfiltration Stormwater 
 Control Practices - Guidelines\, Roger Bannerman\, WDNR\n
DTEND:20090929T170000
DTSTAMP:20260421T054532
DTSTART:20090929T080000
LOCATION:
SEQUENCE:0
SUMMARY:Stormwater Management Committee BMP Design Workshop
UID:a28f76eb-de33-4c12-ab92-e115b336f3bf
END:VEVENT
END:VCALENDAR
