BEGIN:VCALENDAR
VERSION:2.0
PRODID:-//ddaysoftware.com//NONSGML DDay.iCal 1.0//EN
BEGIN:VEVENT
DESCRIPTION:Workshop Presentation Files for Download\nAdobe Acrobat files *
 .pdf:\n\nMWRDGC Stormwater Management Program Presentation\, John P. Murra
 y\, P.E.\, CFM\n
DTEND:20091112T170000
DTSTAMP:20260421T055251
DTSTART:20091112T080000
LOCATION:
SEQUENCE:0
SUMMARY:MWRDGC Cook County Oridinance and Watershed Studies Dinner Seminar 
 EE&WR\,  ASCE\, IAFSM\, November 12\, 2009
UID:a089ee46-1cbe-4c02-87a3-1aff7dfa3585
END:VEVENT
END:VCALENDAR
