BEGIN:VCALENDAR
VERSION:2.0
PRODID:-//ddaysoftware.com//NONSGML DDay.iCal 1.0//EN
BEGIN:VEVENT
DESCRIPTION:Some of the presentations from our August 23rd\, 2010 seminar\,
  &ldquo\;Radar Precipitation- How it can be used in hydrologic studies to 
 improve calibration&rdquo\;\, have been made available by our presenters. 
 Thanks to all our presenters who made this seminar a success.Click on the 
 following presentations to download:\n\nSeminar Itinerary.pdf\nNEXRAD for 
 Small Ungaged Watersheds.pdf\nRadar and Multi-sensor Precipitation Estimat
 es in the Midwest.pdf\n
DTEND:20100823T170000
DTSTAMP:20260421T055348
DTSTART:20100823T080000
LOCATION:
SEQUENCE:0
SUMMARY:Radar Precipitation Seminar Lisle Police Department - Training Room
UID:a02c335f-6988-4e5e-a7e3-309bb0fb12de
END:VEVENT
END:VCALENDAR
