BEGIN:VCALENDAR
VERSION:2.0
PRODID:-//ddaysoftware.com//NONSGML DDay.iCal 1.0//EN
BEGIN:VEVENT
DESCRIPTION:Click on the following presentations to download:\n\nIDNR-OWR_D
 inner_Seminar.pdf\n
DTEND:20101110T170000
DTSTAMP:20260421T055204
DTSTART:20101110T090000
LOCATION:
SEQUENCE:0
SUMMARY:IDNR-OWR Dinner Seminar Presented by Illinois Association for Flood
 plain and Stormwater Management & Environmental Engineering & Water Resour
 ces Group Illinois Section of ASCE
UID:3efdedf0-6363-4514-ae54-3422b71b1a0e
END:VEVENT
END:VCALENDAR
