BEGIN:VCALENDAR
VERSION:2.0
PRODID:-//ddaysoftware.com//NONSGML DDay.iCal 1.0//EN
BEGIN:VEVENT
DESCRIPTION:Click on the following presentations to download:\n\nWinSLAMM C
 ourse Documents and Files Download\n
DTEND:20110127T170000
DTSTAMP:20260421T053849
DTSTART:20110127T080000
LOCATION:
SEQUENCE:0
SUMMARY:Introduction to WinSLAMM
UID:b04152b7-e2c9-4354-890c-2618a719f615
END:VEVENT
END:VCALENDAR
