BEGIN:VCALENDAR
VERSION:2.0
PRODID:-//ddaysoftware.com//NONSGML DDay.iCal 1.0//EN
BEGIN:VEVENT
DESCRIPTION:Workshop Downloads:Floodplain Management Workshop FlyerFloodpla
 in 101 - Paul Osman\, IDNR/OWRLOMR/CLOMR Process - Chris Hanstad\, Illinoi
 s State Water SurveyLOMR/CLOMR/PMR (MT-2) Technical Review - Brian Chaille
 \, Illinois State Water Survey
DTEND:20111011T170000
DTSTAMP:20260421T053119
DTSTART:20111011T090000
LOCATION:DuPage County\, JTK Adminstration Auditorium\, 421 North County Fa
 rm Road\, Wheaton\, IL 60187
SEQUENCE:0
SUMMARY:Floodplain Management Workshop
UID:f49d0a1b-452a-4040-8608-e87471b277af
END:VEVENT
END:VCALENDAR
