BEGIN:VCALENDAR
VERSION:2.0
PRODID:-//ddaysoftware.com//NONSGML DDay.iCal 1.0//EN
BEGIN:VEVENT
DESCRIPTION:There is much information available on green stormwater infrast
 ructure\, including design considerationsand methods for modeling its effe
 ctiveness. Use of low impact development and BMPs aimed at treatingand/or 
 keeping runoff onsite is increasingly practiced in Illinois and nationally
 . There is still much debateand discussion regarding when these methods ar
 e cost-effective as compared to more traditional &lsquo\;gray&rsquo\;infra
 structure. This workshop will compare costs of green and gray infrastructu
 re and provide considerationsof the elements that influence the selection 
 of one or the other.This seminar is intended for stormwater engineers\, pe
 rmitting agencies\, contractors and developers. Theevent will begin with a
 n EPA update on the NPDES Rules Making status and then proceed with provid
 inga framework of factors that influence the evaluation of cost. Subsequen
 t presentations will then focus onreal-life case studies\, presented by bo
 th private and public sector subject matter experts. .Event Highlights:\n\
 nOverview of NPDES rules making update\nPublic sector experiences in addre
 ssing green/gray stormwater cost implications\nReal-life cost case studies
  from the Mid-west\n\nConference Downloads\n\nWorkshop Flyer\nWorkshop Age
 nda\nPresentations\n\nEvaluation of Two Existing Midwest Subdivisions for 
 Green Infrastructure Costs\, Gary Paradoski\, P.E.\nGreen and Gray Stormwa
 ter Infrastructure\, Thomas Price\, Conservation Design Forum\nGreen and G
 ray Infrastructure\, MWRDGC\, John P. Murray\, P.E.\, CFM\nAssessing the C
 ost of Stormwater Infrastructure\, Michael E. Novotney\, P.E.\nGreen Infra
 structure in NPDES Permits and CSO Long-term Control Plans\, Bob Newport\,
  U.S. EPA\n(Political?) Economics of Stormwater\, Gale Fulton\, Professor\
 , UIUC\n\n\n
DTEND:20111025T143000
DTSTAMP:20260421T055317
DTSTART:20111025T083000
LOCATION:NIU Outreach Center\, 1120 East Diehl Road\, Naperville\, IL 60563
 -9347
SEQUENCE:0
SUMMARY:Costs of Green and Gray Stormwater Infrastructure Workshop
UID:f20d1884-dc9d-4577-bdf0-094d99eb1a0c
END:VEVENT
END:VCALENDAR
