BEGIN:VCALENDAR
VERSION:2.0
PRODID:-//ddaysoftware.com//NONSGML DDay.iCal 1.0//EN
BEGIN:VEVENT
DESCRIPTION:
DTEND:20180509T140000
DTSTAMP:20260421T053848
DTSTART:20180509T100000
LOCATION:IDNR/OWR\, One Natural Resources Way\, Springfield\, IL 62702-1271
SEQUENCE:0
SUMMARY:May Board Meeting
UID:59b35de9-f6f4-4331-a33b-4212039843f4
END:VEVENT
END:VCALENDAR
