BEGIN:VCALENDAR
VERSION:2.0
PRODID:-//ddaysoftware.com//NONSGML DDay.iCal 1.0//EN
BEGIN:VEVENT
DESCRIPTION:\n\n\nAgenda:\n \n\n\n9:00-11:00\nGary Jereb\, P.E.\, Chief of 
 the Northeastern Illinois Regulatory Programs Section will present an over
 view of the Illinois Department of Natural Resources\, Office of Water Res
 ources regulatory programs\, specifically the floodway management\, the pu
 blic water management and the dam safety programs. Emphasis will be provid
 ed on the proposed changes to the floodway rules entitled Construction in 
 Floodways of Rivers\, Lakes and Streams (Illinois Adm. Code Part 3700).\n\
 n\n11:00-12:00\nOn September 1\, 2010 the Illinois State Water Survey was 
 officially delegated Conditional/Letter of Map Revision (Form MT-2) CLOMR/
 LOMR review authority on behalf of FEMA within the State of Illinois. Bria
 n Chaille\, P.E. CFM with Illinois State Water Survey&rsquo\;s MT-2 proces
 sing team will provide guidance for successfully revising FEMA maps in Ill
 inois. This workshop will explain the review process and provide insights 
 to help facilitate the map change process for requestors or potential requ
 estors. This workshop is intended for engineers\, floodplain managers\, an
 d anyone who may prepare an application for a CLOMR or LOMR. Topics to be 
 covered in the workshop include: choosing between a Letter of Map Amendmen
 t and a Letter of Map Revision\, determining when a CLOMR or LOMR is requi
 red\, obtaining effective data\, MT-2 Form requirements\, Endangered Speci
 es Act requirements\, organizing the submittal\, common submittal mistakes
 \, effective dates and review periods.\n\n\n\nShould you have any question
 s to regarding this course\, please contact Shauna Urlacher at (630) 729-6
 160 or via e-mail at surlacher@v3co.com.\nWorkshop Flyer\nIDNR/OWR Present
 ation Slides\nISWS Presentation Slides
DTEND:20171018T120000
DTSTAMP:20260421T053726
DTSTART:20171018T090000
LOCATION:IDOT District 1\, 201 West Center Court\, Schaumburg\, IL 60196
SEQUENCE:0
SUMMARY:IDNR Permitting & Floodplain Map Change Seminar
UID:a8f4f1c2-6750-4a80-9a6f-8c87936760f8
END:VEVENT
END:VCALENDAR
